BEGIN:VCALENDAR
VERSION:2.0
PRODID:-//Musangsa - ECPv6.15.11//NONSGML v1.0//EN
CALSCALE:GREGORIAN
METHOD:PUBLISH
X-ORIGINAL-URL:https://musangsa.org
X-WR-CALDESC:Musangsa 이벤트
REFRESH-INTERVAL;VALUE=DURATION:PT1H
X-Robots-Tag:noindex
X-PUBLISHED-TTL:PT1H
BEGIN:VTIMEZONE
TZID:Asia/Seoul
BEGIN:STANDARD
TZOFFSETFROM:+0900
TZOFFSETTO:+0900
TZNAME:KST
DTSTART:20250101T000000
END:STANDARD
END:VTIMEZONE
BEGIN:VEVENT
DTSTART;TZID=Asia/Seoul:20260502T140000
DTEND;TZID=Asia/Seoul:20260503T120000
DTSTAMP:20260423T192943
CREATED:20250928T052000Z
LAST-MODIFIED:20260421T102936Z
UID:17392-1777730400-1777809600@musangsa.org
SUMMARY:2026년 5월 봄 템플스테이
DESCRIPTION:템플스테이 \n무상사 템플스테이는 자연 속의 조화로운 사찰에서 명상과 문화를 체험할 수 있는 문화 체류 프로그램입니다. \n고요한 사찰에서 자신을 돌아볼 시간을 찾고 계신가요? \n♣ 바쁜 일상에서 벗어나 템플스테이에서 진정한 자신을 만나보세요.\n♣ 새벽 명상당에서 울려 퍼지는 종소리와 예불 소리에 눈을 뜨세요.\n♣ 108배 수행으로 몸과 마음을 하나로 모아보세요.\n♣ 저녁 예불 시간에 지난 날을 반성하고\, 내면의 평화와 삶의 방향을 찾아보세요.\n♣ 명상과 내면 탐구를 통해 삶의 진정한 의미를 발견해 보세요. \n프로그램 세부사항: \n\n참가자들은 전 세계 다양한 나라에서 온 스님들과 함께 수행합니다.\n프로그램은 한국어와 영어로 진행됩니다. (동시 통역 제공)\n\n세부 사항 보기
URL:https://musangsa.org/event/2026%eb%85%84-5%ec%9b%94-%eb%b4%84-%ed%85%9c%ed%94%8c%ec%8a%a4%ed%85%8c%ec%9d%b4/
LOCATION:무상사\, 엄사면 향적산길 129\, 계룡시\, 충청남도\, 32816
ATTACH;FMTTYPE=image/jpeg:https://musangsa.org/wp-content/uploads/2026/02/Musangsa-Spring-Temple-Stay-2026-1-1.jpg
END:VEVENT
BEGIN:VEVENT
DTSTART;TZID=Asia/Seoul:20260503T100000
DTEND;TZID=Asia/Seoul:20260503T120000
DTSTAMP:20260423T192943
CREATED:20260302T072640Z
LAST-MODIFIED:20260413T214456Z
UID:18374-1777802400-1777809600@musangsa.org
SUMMARY:초하루 정기 법회
DESCRIPTION:
URL:https://musangsa.org/event/%ec%b4%88%ed%95%98%eb%a3%a8-%ec%a0%95%ea%b8%b0-%eb%b2%95%ed%9a%8c/
LOCATION:무상사\, 엄사면 향적산길 129\, 계룡시\, 충청남도\, 32816
ATTACH;FMTTYPE=image/jpeg:https://musangsa.org/wp-content/uploads/2026/03/Choharu-Monthly-Dharma-Talk-2-3.jpg
END:VEVENT
BEGIN:VEVENT
DTSTART;TZID=Asia/Seoul:20260509T090000
DTEND;TZID=Asia/Seoul:20260509T150000
DTSTAMP:20260423T192943
CREATED:20260221T070705Z
LAST-MODIFIED:20260316T100222Z
UID:18185-1778317200-1778338800@musangsa.org
SUMMARY:하루 참선 정진
DESCRIPTION:장소:  충청남도 계룡시 엄사면 향적산길 129 \n참가를 원하시는 분은 무상사 홈페이지 또는아래 신청하기를 통해 신청서를 제출해 주시면 됩니다. \n참가비 : ₩50\,000 \n문의: 이메일 : office@musangsa.org / T: 042-841 6084  \n신청하기
URL:https://musangsa.org/event/%ed%95%98%eb%a3%a8-%ec%b0%b8%ec%84%a0-%ec%a0%95%ec%a7%84-2/
ATTACH;FMTTYPE=image/jpeg:https://musangsa.org/wp-content/uploads/2026/02/DJIMC-One-Day-Retreat.jpg
END:VEVENT
BEGIN:VEVENT
DTSTART;TZID=Asia/Seoul:20260517T100000
DTEND;TZID=Asia/Seoul:20260517T110000
DTSTAMP:20260423T192943
CREATED:20260328T020132Z
LAST-MODIFIED:20260328T063347Z
UID:18778-1779012000-1779015600@musangsa.org
SUMMARY:7일 석가모니불 기도 입재
DESCRIPTION:
URL:https://musangsa.org/event/7%ec%9d%bc-%ec%84%9d%ea%b0%80%eb%aa%a8%eb%8b%88%eb%b6%88-%ea%b8%b0%eb%8f%84-%ec%9e%85%ec%9e%ac/
ATTACH;FMTTYPE=image/jpeg:https://musangsa.org/wp-content/uploads/2026/03/1-3.jpg
END:VEVENT
BEGIN:VEVENT
DTSTART;TZID=Asia/Seoul:20260524T100000
DTEND;TZID=Asia/Seoul:20260524T120000
DTSTAMP:20260423T192943
CREATED:20260328T020635Z
LAST-MODIFIED:20260406T072050Z
UID:18793-1779616800-1779624000@musangsa.org
SUMMARY:부처님 오신 날
DESCRIPTION:
URL:https://musangsa.org/event/%eb%b6%80%ec%b2%98%eb%8b%98-%ec%98%a4%ec%8b%a0-%eb%82%a0/
ATTACH;FMTTYPE=image/jpeg:https://musangsa.org/wp-content/uploads/2026/03/2-7.jpg
END:VEVENT
END:VCALENDAR