BEGIN:VCALENDAR
VERSION:2.0
PRODID:-//Musangsa - ECPv6.15.11//NONSGML v1.0//EN
CALSCALE:GREGORIAN
METHOD:PUBLISH
X-WR-CALNAME:Musangsa
X-ORIGINAL-URL:https://musangsa.org
X-WR-CALDESC:Musangsa 이벤트
REFRESH-INTERVAL;VALUE=DURATION:PT1H
X-Robots-Tag:noindex
X-PUBLISHED-TTL:PT1H
BEGIN:VTIMEZONE
TZID:Asia/Seoul
BEGIN:STANDARD
TZOFFSETFROM:+0900
TZOFFSETTO:+0900
TZNAME:KST
DTSTART:20250101T000000
END:STANDARD
END:VTIMEZONE
BEGIN:VEVENT
DTSTART;TZID=Asia/Seoul:20260426T130000
DTEND;TZID=Asia/Seoul:20260426T150000
DTSTAMP:20260423T174547
CREATED:20250919T015947Z
LAST-MODIFIED:20260223T064657Z
UID:17279-1777208400-1777215600@musangsa.org
SUMMARY:일요 참선 수행- 무상사 & Zoom
DESCRIPTION:일요 참선 수행 \n\n일요 참선 수행은 참선(좌선)과 질의 응답 시간으로 구성됩니다.\n참선 시간이 포함되어 있음은 물론\, 지도하시는 선사님\, 법사님들\, 스님들께 비교적 자유로운 분위기에서 질문을 할 수 있는 기회입니다.\n참선 경험이 없는 분들 혹은 있는 분들 모두 참석 가능합니다.\n일요일 이웃들과 함께 참선 그리고  스님들과 함께 지혜를 찾는 하루가 되시길 바랍니다.\n\n\n\n\n\n◎한국어와 영어 동시 통역으로 진행합니다.\n\n\n\n\n참석 방법 \n\n시간: 오후 1:00 – 2:45\n장소: @대면 참석 : 무상사 종무소 1층 전법관  / @온라인 : 일요 참선 수행 Zoom (희의 ID: 851 9185 4678 | 회의 암호: 715750)\n일정:\n(2주\, 4주) 13:00-14:10 좌선(30분 명상 x 2) / 14:15-14:45 법문 및 질의 응답\, 차담\n(1주\, 3주\, 5주) 13:00-14:40 좌선(30분 명상-2회 + 20분 명상) / 14:40-15:00 차담\n\n참고사항 \n\n\n\n\n\n\n좌선하기 편한 복장\n한국어와 영어로 동시에 진행됩니다.\n처음 오시는 분들에게 참선 시간 20분전에 무상사 종무소에 오시면 참선 지도를 해드립니다.\n이 프로그램은 무료이며 일반인에게 공개됩니다.\n보시금 (기부금)은 무상사에서 수행하시는 여러 국적의 스님들과 수행자들의 수행을 위해 쓰여집니다.
URL:https://musangsa.org/event/%ec%9d%bc%ec%9a%94%ec%9d%bc-%ec%a0%a0-%ec%b9%b4%ed%8e%98-%eb%ac%b4%ec%83%81%ec%82%ac-zoom/
LOCATION:무상사\, 엄사면 향적산길 129\, 계룡시\, 충청남도\, 32816
ATTACH;FMTTYPE=image/jpeg:https://musangsa.org/wp-content/uploads/2026/02/4-1.jpg
END:VEVENT
END:VCALENDAR